BEGIN:VCALENDAR
VERSION:2.0
PRODID:SchoolNow
CALSCALE:GREGORIAN
BEGIN:VEVENT
UID:f0b5f3e0-4f31-11e9-b271-123057961a60
DTSTAMP:20190325T191232Z
SUMMARY:Boys Tennis at Hamilton
URL;VALUE=URI:https://www.hudsonvillepublicschools.org/rileystreet/athletic
 s/calendar/1960023/boys-tennis-at-hamilton
DTSTART:20190520T200000Z
DTEND:20190520T220000Z
END:VEVENT
END:VCALENDAR
