BEGIN:VCALENDAR
VERSION:2.0
PRODID:SchoolNow
CALSCALE:GREGORIAN
BEGIN:VEVENT
UID:c8435f4c-4f31-11e9-aeb5-123057961a60
DTSTAMP:20190325T191124Z
SUMMARY:Boys Tennis at Zeeland Creekside
URL;VALUE=URI:https://www.hudsonvillepublicschools.org/rileystreet/athletic
 s/calendar/1960021/boys-tennis-at-zeeland-creekside
DTSTART:20190516T200000Z
DTEND:20190516T220000Z
END:VEVENT
END:VCALENDAR
