BEGIN:VCALENDAR
VERSION:2.0
PRODID:SchoolNow
CALSCALE:GREGORIAN
BEGIN:VEVENT
UID:a2641d66-4f31-11e9-9417-123057961a60
DTSTAMP:20190325T191020Z
SUMMARY:Boys Tennis vs. Baldwin at High School
URL;VALUE=URI:https://www.hudsonvillepublicschools.org/rileystreet/athletic
 s/calendar/1960019/boys-tennis-vs-baldwin-at-high-school
DTSTART:20190515T194500Z
DTEND:20190515T220000Z
END:VEVENT
END:VCALENDAR
