BEGIN:VCALENDAR
VERSION:2.0
PRODID:SchoolNow
CALSCALE:GREGORIAN
BEGIN:VEVENT
UID:70db198e-4f31-11e9-aeeb-123057961a60
DTSTAMP:20190325T190857Z
SUMMARY:Boys Tennis at East Rockford
URL;VALUE=URI:https://www.hudsonvillepublicschools.org/rileystreet/athletic
 s/calendar/1960017/boys-tennis-at-east-rockford
DTSTART:20190514T200000Z
DTEND:20190514T220000Z
END:VEVENT
END:VCALENDAR
