BEGIN:VCALENDAR
VERSION:2.0
PRODID:SchoolNow
CALSCALE:GREGORIAN
BEGIN:VEVENT
UID:4915a86a-4f31-11e9-b0a5-123057961a60
DTSTAMP:20190325T190750Z
SUMMARY:Boys Tennis Home vs. North Rockford
URL;VALUE=URI:https://www.hudsonvillepublicschools.org/rileystreet/athletic
 s/calendar/1960012/boys-tennis-home-vs-north-rockford
DTSTART:20190507T200000Z
DTEND:20190507T220000Z
END:VEVENT
END:VCALENDAR
