BEGIN:VCALENDAR
VERSION:2.0
PRODID:SchoolNow
CALSCALE:GREGORIAN
BEGIN:VEVENT
UID:14d52058-4f31-11e9-9e63-123057961a60
DTSTAMP:20190430T183420Z
SUMMARY:Boys Tennis at Holland
URL;VALUE=URI:https://www.hudsonvillepublicschools.org/rileystreet/athletic
 s/calendar/1960010/boys-tennis-at-holland
DTSTART:20190503T200000Z
DTEND:20190503T210000Z
END:VEVENT
END:VCALENDAR
