BEGIN:VCALENDAR
VERSION:2.0
PRODID:SchoolNow
CALSCALE:GREGORIAN
BEGIN:VEVENT
UID:f0b6d040-4f30-11e9-b622-123057961a60
DTSTAMP:20190325T190522Z
SUMMARY:Boys Tennis Home vs. Baldwin
URL;VALUE=URI:https://www.hudsonvillepublicschools.org/rileystreet/athletic
 s/calendar/1960009/boys-tennis-home-vs-baldwin
DTSTART:20190425T200000Z
DTEND:20190425T220000Z
END:VEVENT
END:VCALENDAR
