BEGIN:VCALENDAR
VERSION:2.0
PRODID:SchoolNow
CALSCALE:GREGORIAN
BEGIN:VEVENT
UID:a6a05de6-4f30-11e9-838d-0a54169143a2
DTSTAMP:20190325T190318Z
SUMMARY:Boys Tennis at Grandville White
URL;VALUE=URI:https://www.hudsonvillepublicschools.org/rileystreet/athletic
 s/calendar/1960006/boys-tennis-at-grandville-white
DTSTART:20190423T200000Z
DTEND:20190423T220000Z
END:VEVENT
END:VCALENDAR
