BEGIN:VCALENDAR
VERSION:2.0
PRODID:SchoolNow
CALSCALE:GREGORIAN
BEGIN:VEVENT
UID:7b7593a2-4f30-11e9-b211-0a54169143a2
DTSTAMP:20190419T161058Z
SUMMARY:Boys Tennis Home vs. Jenison
URL;VALUE=URI:https://www.hudsonvillepublicschools.org/rileystreet/athletic
 s/calendar/1960005/boys-tennis-home-vs-jenison
DTSTART:20190424T200000Z
DTEND:20190424T210000Z
END:VEVENT
END:VCALENDAR
