BEGIN:VCALENDAR
VERSION:2.0
PRODID:SchoolNow
CALSCALE:GREGORIAN
BEGIN:VEVENT
UID:42a482be-4f2f-11e9-aeff-0afe5174cf6e
DTSTAMP:20190325T185321Z
SUMMARY:Boys Tennis Home vs. Grand Haven
URL;VALUE=URI:https://www.hudsonvillepublicschools.org/rileystreet/athletic
 s/calendar/1959999/boys-tennis-home-vs-grand-haven
DTSTART:20190409T200000Z
DTEND:20190409T220000Z
END:VEVENT
END:VCALENDAR
