BEGIN:VCALENDAR
VERSION:2.0
PRODID:SchoolNow
CALSCALE:GREGORIAN
BEGIN:VEVENT
UID:354f84e0-4f27-11e9-be7e-12634a537724
DTSTAMP:20190325T175542Z
SUMMARY:Track & Field Boys Conference Meet a West Ottawa
URL;VALUE=URI:https://www.hudsonvillepublicschools.org/rileystreet/athletic
 s/calendar/1959864/track-field-boys-conference-meet-a-west-ottawa
DTSTART:20190521T200000Z
DTEND:20190521T230000Z
END:VEVENT
END:VCALENDAR
