BEGIN:VCALENDAR
VERSION:2.0
PRODID:SchoolNow
CALSCALE:GREGORIAN
BEGIN:VEVENT
UID:d303d5f2-4f26-11e9-a4b5-0ae9c06b09a4
DTSTAMP:20190325T175257Z
SUMMARY:Track & Field Girls Conference Meet at Home
URL;VALUE=URI:https://www.hudsonvillepublicschools.org/rileystreet/athletic
 s/calendar/1959861/track-field-girls-conference-meet-at-home
DTSTART:20190520T200000Z
DTEND:20190520T230000Z
END:VEVENT
END:VCALENDAR
