BEGIN:VCALENDAR
VERSION:2.0
PRODID:SchoolNow
CALSCALE:GREGORIAN
BEGIN:VEVENT
UID:944f78ac-4f26-11e9-9a2f-0a265ad83958
DTSTAMP:20190325T175112Z
SUMMARY:Track & Field at Zeeland Relays
URL;VALUE=URI:https://www.hudsonvillepublicschools.org/rileystreet/athletic
 s/calendar/1959859/track-field-at-zeeland-relays
DTSTART:20190515T200000Z
DTEND:20190515T223000Z
END:VEVENT
END:VCALENDAR
