BEGIN:VCALENDAR
VERSION:2.0
PRODID:SchoolNow
CALSCALE:GREGORIAN
BEGIN:VEVENT
UID:219e6c0a-4f26-11e9-806a-12be202ffab2
DTSTAMP:20190325T174800Z
SUMMARY:Track & Field Home vs. Grand Haven
URL;VALUE=URI:https://www.hudsonvillepublicschools.org/rileystreet/athletic
 s/calendar/1959858/track-field-home-vs-grand-haven
DTSTART:20190513T203000Z
DTEND:20190513T223000Z
END:VEVENT
END:VCALENDAR
