BEGIN:VCALENDAR
VERSION:2.0
PRODID:SchoolNow
CALSCALE:GREGORIAN
BEGIN:VEVENT
UID:9ea87f3e-4f25-11e9-aaf6-123057961a60
DTSTAMP:20190325T174420Z
SUMMARY:Track & Field Home vs. Jenison
URL;VALUE=URI:https://www.hudsonvillepublicschools.org/rileystreet/athletic
 s/calendar/1959857/track-field-home-vs-jenison
DTSTART:20190509T203000Z
DTEND:20190509T223000Z
END:VEVENT
END:VCALENDAR
