BEGIN:VCALENDAR
VERSION:2.0
PRODID:SchoolNow
CALSCALE:GREGORIAN
BEGIN:VEVENT
UID:704f370e-4f25-11e9-bf31-0a47d35dfe3a
DTSTAMP:20190325T174302Z
SUMMARY:Track & Field at Grandville vs. Byron and Grandville
URL;VALUE=URI:https://www.hudsonvillepublicschools.org/rileystreet/athletic
 s/calendar/1959856/track-field-at-grandville-vs-byron-and-grandville
DTSTART:20190506T200000Z
DTEND:20190506T223000Z
END:VEVENT
END:VCALENDAR
