BEGIN:VCALENDAR
VERSION:2.0
PRODID:SchoolNow
CALSCALE:GREGORIAN
BEGIN:VEVENT
UID:f76ac2b8-4f24-11e9-a12c-0a4e02ba1112
DTSTAMP:20190325T173939Z
SUMMARY:Track & Field Home vs. Valleywood
URL;VALUE=URI:https://www.hudsonvillepublicschools.org/rileystreet/athletic
 s/calendar/1959855/track-field-home-vs-valleywood
DTSTART:20190502T203000Z
DTEND:20190502T223000Z
END:VEVENT
END:VCALENDAR
