BEGIN:VCALENDAR
VERSION:2.0
PRODID:SchoolNow
CALSCALE:GREGORIAN
BEGIN:VEVENT
UID:97187216-4f24-11e9-a141-12be202ffab2
DTSTAMP:20190325T173658Z
SUMMARY:Track & Field Home vs. Crestwood
URL;VALUE=URI:https://www.hudsonvillepublicschools.org/rileystreet/athletic
 s/calendar/1959854/track-field-home-vs-crestwood
DTSTART:20190424T203000Z
DTEND:20190424T223000Z
END:VEVENT
END:VCALENDAR
