BEGIN:VCALENDAR
VERSION:2.0
PRODID:SchoolNow
CALSCALE:GREGORIAN
BEGIN:VEVENT
UID:0f9ce4f2-4f24-11e9-a906-0ae9c06b09a4
DTSTAMP:20190418T185852Z
SUMMARY:Track & Field at West Ottawa
URL;VALUE=URI:https://www.hudsonvillepublicschools.org/rileystreet/athletic
 s/calendar/1959853/track-field-at-west-ottawa
DTSTART:20190423T200000Z
DTEND:20190423T210000Z
END:VEVENT
END:VCALENDAR
