BEGIN:VCALENDAR
VERSION:2.0
PRODID:SchoolNow
CALSCALE:GREGORIAN
BEGIN:VEVENT
UID:ce3ffc56-4f23-11e9-a45b-129025a4e614
DTSTAMP:20190325T173343Z
SUMMARY:Track & Field at Pinewood
URL;VALUE=URI:https://www.hudsonvillepublicschools.org/rileystreet/athletic
 s/calendar/1959852/track-field-at-pinewood
DTSTART:20190409T203000Z
DTEND:20190409T230000Z
END:VEVENT
END:VCALENDAR
