BEGIN:VCALENDAR
VERSION:2.0
PRODID:SchoolNow
CALSCALE:GREGORIAN
BEGIN:VEVENT
UID:610a7b00-45bb-11e9-9d06-0aeb5265304e
DTSTAMP:20190313T181110Z
SUMMARY:Girls Soccer at Hamilton
URL;VALUE=URI:https://www.hudsonvillepublicschools.org/rileystreet/athletic
 s/calendar/1955181/girls-soccer-at-hamilton
DTSTART:20190521T200000Z
DTEND:20190521T223000Z
END:VEVENT
END:VCALENDAR
