BEGIN:VCALENDAR
VERSION:2.0
PRODID:SchoolNow
CALSCALE:GREGORIAN
BEGIN:VEVENT
UID:22271b64-45bb-11e9-b0ee-0a28bc5c8524
DTSTAMP:20190313T180924Z
SUMMARY:Girls Soccer vs. Byron Center
URL;VALUE=URI:https://www.hudsonvillepublicschools.org/rileystreet/athletic
 s/calendar/1955180/girls-soccer-vs-byron-center
DTSTART:20190516T200000Z
DTEND:20190516T223000Z
END:VEVENT
END:VCALENDAR
