BEGIN:VCALENDAR
VERSION:2.0
PRODID:SchoolNow
CALSCALE:GREGORIAN
BEGIN:VEVENT
UID:09d61c46-45ba-11e9-ad63-12a399ebf118
DTSTAMP:20190313T180716Z
SUMMARY:Girls Soccer vs Zeeland Cityside
URL;VALUE=URI:https://www.hudsonvillepublicschools.org/rileystreet/athletic
 s/calendar/1955168/girls-soccer-vs-zeeland-cityside
DTSTART:20190507T200000Z
DTEND:20190507T223000Z
END:VEVENT
END:VCALENDAR
