BEGIN:VCALENDAR
VERSION:2.0
PRODID:SchoolNow
CALSCALE:GREGORIAN
BEGIN:VEVENT
UID:a32358b0-45b9-11e9-8c72-12e902373306
DTSTAMP:20190325T172958Z
SUMMARY:Girls Soccer vs. Holland Christian - 8th Grade Only Plays
URL;VALUE=URI:https://www.hudsonvillepublicschools.org/rileystreet/athletic
 s/calendar/1955167/girls-soccer-vs-holland-christian
DTSTART:20190506T200000Z
DTEND:20190506T223000Z
END:VEVENT
END:VCALENDAR
