BEGIN:VCALENDAR
VERSION:2.0
PRODID:SchoolNow
CALSCALE:GREGORIAN
BEGIN:VEVENT
UID:606ec726-45b8-11e9-a6ad-12246e9911dc
DTSTAMP:20190313T174940Z
SUMMARY:Girls Soccer vs. West Ottawa
URL;VALUE=URI:https://www.hudsonvillepublicschools.org/rileystreet/athletic
 s/calendar/1955164/girls-soccer-vs-west-ottawa
DTSTART:20190430T200000Z
DTEND:20190430T223000Z
END:VEVENT
END:VCALENDAR
