BEGIN:VCALENDAR
VERSION:2.0
PRODID:SchoolNow
CALSCALE:GREGORIAN
BEGIN:VEVENT
UID:83185bd2-45b5-11e9-9f54-0aeb5265304e
DTSTAMP:20190313T172910Z
SUMMARY:Girls Soccer at Holland
URL;VALUE=URI:https://www.hudsonvillepublicschools.org/rileystreet/athletic
 s/calendar/1955162/girls-soccer-at-holland
DTSTART:20190423T200000Z
DTEND:20190423T223000Z
END:VEVENT
END:VCALENDAR
