BEGIN:VCALENDAR
VERSION:2.0
PRODID:SchoolNow
CALSCALE:GREGORIAN
BEGIN:VEVENT
UID:40e50b0c-45b0-11e9-b75f-1226f8f7ef04
DTSTAMP:20190418T183031Z
SUMMARY:Girls Soccer vs. Jenison
URL;VALUE=URI:https://www.hudsonvillepublicschools.org/rileystreet/athletic
 s/calendar/1955141/girls-soccer-vs-jenison
DTSTART:20190425T200000Z
DTEND:20190425T210000Z
END:VEVENT
END:VCALENDAR
