BEGIN:VCALENDAR
VERSION:2.0
PRODID:SchoolNow
CALSCALE:GREGORIAN
BEGIN:VEVENT
UID:f074644c-45af-11e9-a8e7-0ae401c585d6
DTSTAMP:20190313T165013Z
SUMMARY:Girls Soccer at Grandville (South Christian)
URL;VALUE=URI:https://www.hudsonvillepublicschools.org/rileystreet/athletic
 s/calendar/1955140/girls-soccer-at-grandville
DTSTART:20190416T200000Z
DTEND:20190416T223000Z
END:VEVENT
END:VCALENDAR
