BEGIN:VCALENDAR
VERSION:2.0
PRODID:SchoolNow
CALSCALE:GREGORIAN
BEGIN:VEVENT
UID:bc9a484e-45af-11e9-851e-0ae401c585d6
DTSTAMP:20190313T164749Z
SUMMARY:Girls Soccer at Zeeland Creekside
URL;VALUE=URI:https://www.hudsonvillepublicschools.org/rileystreet/athletic
 s/calendar/1955136/girls-soccer-at-zeeland-creekside
DTSTART:20190411T200000Z
DTEND:20190411T223000Z
END:VEVENT
END:VCALENDAR
