BEGIN:VCALENDAR
VERSION:2.0
PRODID:SchoolNow
CALSCALE:GREGORIAN
BEGIN:VEVENT
UID:7d2ba61c-45af-11e9-8306-127107df2d3c
DTSTAMP:20190313T164819Z
SUMMARY:Girls Soccer at Zeeland Christian
URL;VALUE=URI:https://www.hudsonvillepublicschools.org/rileystreet/athletic
 s/calendar/1955129/girls-soccer-at-zeeland-christian
DTSTART:20190409T080000Z
DTEND:20190409T223000Z
END:VEVENT
END:VCALENDAR
