BEGIN:VCALENDAR
VERSION:2.0
PRODID:SchoolNow
CALSCALE:GREGORIAN
BEGIN:VEVENT
UID:5c3178a4-3aa3-11e9-b205-0af5f86fd70a
DTSTAMP:20190227T152131Z
SUMMARY:Riley Wrestling at Baldwin vs. Byron Center and Baldwin
URL;VALUE=URI:https://www.hudsonvillepublicschools.org/rileystreet/athletic
 s/calendar/1949687/riley-wrestling-at-baldwin-vs-byron-center-and-baldwin
DTSTART:20190311T200000Z
DTEND:20190311T220000Z
END:VEVENT
END:VCALENDAR
