BEGIN:VCALENDAR
VERSION:2.0
PRODID:SchoolNow
CALSCALE:GREGORIAN
BEGIN:VEVENT
UID:3e8333a6-3396-11e9-87c8-0aeabda62412
DTSTAMP:20190218T155959Z
SUMMARY:Boys Swim & Dive at Jenison
URL;VALUE=URI:https://www.hudsonvillepublicschools.org/rileystreet/athletic
 s/calendar/1946034/boys-swim-dive-at-jenison
DTSTART:20190312T200000Z
DTEND:20190312T220000Z
END:VEVENT
END:VCALENDAR
