BEGIN:VCALENDAR
VERSION:2.0
PRODID:SchoolNow
CALSCALE:GREGORIAN
BEGIN:VEVENT
UID:16962a06-3396-11e9-ada9-0aeabda62412
DTSTAMP:20190218T155852Z
SUMMARY:Riley Wrestling vs. Pinewood & Valleywood at Baldwin
URL;VALUE=URI:https://www.hudsonvillepublicschools.org/rileystreet/athletic
 s/calendar/1946033/riley-wrestling-vs-pinewood-valleywood-at-baldwin
DTSTART:20190314T200000Z
DTEND:20190314T233000Z
END:VEVENT
END:VCALENDAR
