BEGIN:VCALENDAR
VERSION:2.0
PRODID:SchoolNow
CALSCALE:GREGORIAN
BEGIN:VEVENT
UID:edab5c4c-3395-11e9-b566-0a07ae8d4ea4
DTSTAMP:20190218T155744Z
SUMMARY:Riley Wrestling at Jenison
URL;VALUE=URI:https://www.hudsonvillepublicschools.org/rileystreet/athletic
 s/calendar/1946032/riley-wrestling-at-jenison
DTSTART:20190219T210000Z
DTEND:20190219T230000Z
END:VEVENT
END:VCALENDAR
