BEGIN:VCALENDAR
VERSION:2.0
PRODID:SchoolNow
CALSCALE:GREGORIAN
BEGIN:VEVENT
UID:cdcd0420-3395-11e9-b22d-0a07ae8d4ea4
DTSTAMP:20190218T155650Z
SUMMARY:Girls Basketball home vs. Muskegon
URL;VALUE=URI:https://www.hudsonvillepublicschools.org/rileystreet/athletic
 s/calendar/1946031/girls-basketball-home-vs-muskegon
DTSTART:20190313T200000Z
DTEND:20190313T223000Z
END:VEVENT
END:VCALENDAR
