BEGIN:VCALENDAR
VERSION:2.0
PRODID:SchoolNow
CALSCALE:GREGORIAN
BEGIN:VEVENT
UID:ac2a1c72-3395-11e9-b523-0a07ae8d4ea4
DTSTAMP:20190227T153452Z
SUMMARY:Girls Basketball home vs. Valleywood
URL;VALUE=URI:https://www.hudsonvillepublicschools.org/rileystreet/athletic
 s/calendar/1946030/girls-basketball-home-vs-valleywood
DTSTART:20190228T210000Z
DTEND:20190228T233000Z
END:VEVENT
END:VCALENDAR
