BEGIN:VCALENDAR
VERSION:2.0
PRODID:SchoolNow
CALSCALE:GREGORIAN
BEGIN:VEVENT
UID:852e49b8-3395-11e9-912d-0a07ae8d4ea4
DTSTAMP:20190218T155448Z
SUMMARY:Eagle Select Basketball vs. Mona Shores at Baldwin
URL;VALUE=URI:https://www.hudsonvillepublicschools.org/rileystreet/athletic
 s/calendar/1946029/eagle-select-basketball-vs-mona-shores-at-baldwin
DTSTART:20190221T210000Z
DTEND:20190221T233000Z
END:VEVENT
END:VCALENDAR
