BEGIN:VCALENDAR
VERSION:2.0
PRODID:SchoolNow
CALSCALE:GREGORIAN
BEGIN:VEVENT
UID:ac7f2f78-1b58-11e9-8a11-124645143986
DTSTAMP:20190118T193847Z
SUMMARY:Girls Basketball at Baldwin
URL;VALUE=URI:https://www.hudsonvillepublicschools.org/rileystreet/athletic
 s/calendar/1933141/girls-basketball-at-baldwin
DTSTART:20190312T200000Z
DTEND:20190312T223000Z
END:VEVENT
END:VCALENDAR
