BEGIN:VCALENDAR
VERSION:2.0
PRODID:SchoolNow
CALSCALE:GREGORIAN
BEGIN:VEVENT
UID:7f1e437a-1b58-11e9-83e4-12d69a1243b8
DTSTAMP:20190118T193731Z
SUMMARY:Girls Basketball home vs. West Ottawa
URL;VALUE=URI:https://www.hudsonvillepublicschools.org/rileystreet/athletic
 s/calendar/1933140/girls-basketball-home-vs-west-ottawa
DTSTART:20190311T200000Z
DTEND:20190311T223000Z
END:VEVENT
END:VCALENDAR
