BEGIN:VCALENDAR
VERSION:2.0
PRODID:SchoolNow
CALSCALE:GREGORIAN
BEGIN:VEVENT
UID:529a5ba4-1b58-11e9-a3f8-0a6b253c268c
DTSTAMP:20190118T193616Z
SUMMARY:Girls Basketball at Grand Haven Blue
URL;VALUE=URI:https://www.hudsonvillepublicschools.org/rileystreet/athletic
 s/calendar/1933139/girls-basketball-at-grand-haven-blue
DTSTART:20190306T210000Z
DTEND:20190306T233000Z
END:VEVENT
END:VCALENDAR
