BEGIN:VCALENDAR
VERSION:2.0
PRODID:SchoolNow
CALSCALE:GREGORIAN
BEGIN:VEVENT
UID:b37b57bc-1b57-11e9-8677-12a9c1190e96
DTSTAMP:20190118T193149Z
SUMMARY:Girls Basketball home vs. Pinewood
URL;VALUE=URI:https://www.hudsonvillepublicschools.org/rileystreet/athletic
 s/calendar/1933138/girls-basketball-home-vs-pinewood
DTSTART:20190304T210000Z
DTEND:20190304T233000Z
END:VEVENT
END:VCALENDAR
