BEGIN:VCALENDAR
VERSION:2.0
PRODID:SchoolNow
CALSCALE:GREGORIAN
BEGIN:VEVENT
UID:6d07a1d2-1b57-11e9-8615-0ab2a2862324
DTSTAMP:20190118T192951Z
SUMMARY:Girls Basketball home vs. Byron Center
URL;VALUE=URI:https://www.hudsonvillepublicschools.org/rileystreet/athletic
 s/calendar/1933136/girls-basketball-home-vs-byron-center
DTSTART:20190227T210000Z
DTEND:20190227T233000Z
END:VEVENT
END:VCALENDAR
