BEGIN:VCALENDAR
VERSION:2.0
PRODID:SchoolNow
CALSCALE:GREGORIAN
BEGIN:VEVENT
UID:40e2bb78-1b57-11e9-8e2f-1281777c5060
DTSTAMP:20190118T192837Z
SUMMARY:Girls Basketball at Jenison
URL;VALUE=URI:https://www.hudsonvillepublicschools.org/rileystreet/athletic
 s/calendar/1933135/girls-basketball-at-jenison
DTSTART:20190225T210000Z
DTEND:20190225T233000Z
END:VEVENT
END:VCALENDAR
