BEGIN:VCALENDAR
VERSION:2.0
PRODID:SchoolNow
CALSCALE:GREGORIAN
BEGIN:VEVENT
UID:23b9af58-1b56-11e9-aadb-0a6b253c268c
DTSTAMP:20190118T192039Z
SUMMARY:Girls Basketball home vs. Grand Haven Gold
URL;VALUE=URI:https://www.hudsonvillepublicschools.org/rileystreet/athletic
 s/calendar/1933134/girls-basketball-home-vs-grand-haven-gold
DTSTART:20190220T210000Z
DTEND:20190220T233000Z
END:VEVENT
END:VCALENDAR
