BEGIN:VCALENDAR
VERSION:2.0
PRODID:SchoolNow
CALSCALE:GREGORIAN
BEGIN:VEVENT
UID:7d3d2682-1b55-11e9-b18e-0a4f37107dea
DTSTAMP:20190118T191559Z
SUMMARY:Girls Basketball at Zeeland Creekside
URL;VALUE=URI:https://www.hudsonvillepublicschools.org/rileystreet/athletic
 s/calendar/1933133/girls-basketball-at-zeeland-creekside
DTSTART:20190218T210000Z
DTEND:20190218T233000Z
END:VEVENT
END:VCALENDAR
