BEGIN:VCALENDAR
VERSION:2.0
PRODID:SchoolNow
CALSCALE:GREGORIAN
BEGIN:VEVENT
UID:54c99df2-1b55-11e9-b9af-1240d37d061e
DTSTAMP:20190118T191452Z
SUMMARY:Girls Basketball home vs. Muskegon
URL;VALUE=URI:https://www.hudsonvillepublicschools.org/rileystreet/athletic
 s/calendar/1933132/girls-basketball-home-vs-muskegon
DTSTART:20190213T210000Z
DTEND:20190213T233000Z
END:VEVENT
END:VCALENDAR
