BEGIN:VCALENDAR
VERSION:2.0
PRODID:SchoolNow
CALSCALE:GREGORIAN
BEGIN:VEVENT
UID:6d6c3876-1b53-11e9-ba44-1281777c5060
DTSTAMP:20190118T190114Z
SUMMARY:Girls Basketball at Grandville
URL;VALUE=URI:https://www.hudsonvillepublicschools.org/rileystreet/athletic
 s/calendar/1933131/girls-basketball-at-grandville
DTSTART:20190211T210000Z
DTEND:20190211T233000Z
END:VEVENT
END:VCALENDAR
