BEGIN:VCALENDAR
VERSION:2.0
PRODID:SchoolNow
CALSCALE:GREGORIAN
BEGIN:VEVENT
UID:0a7f06b2-1b53-11e9-b5a7-0a28c10a8e52
DTSTAMP:20190118T185828Z
SUMMARY:Girls Basketball at Byron Center
URL;VALUE=URI:https://www.hudsonvillepublicschools.org/rileystreet/athletic
 s/calendar/1933130/girls-basketball-at-byron-center
DTSTART:20190206T210000Z
DTEND:20190206T233000Z
END:VEVENT
END:VCALENDAR
