BEGIN:VCALENDAR
VERSION:2.0
PRODID:SchoolNow
CALSCALE:GREGORIAN
BEGIN:VEVENT
UID:c1627df6-1b52-11e9-84d9-124645143986
DTSTAMP:20190118T185625Z
SUMMARY:Girls Basketball vs. Valleywood
URL;VALUE=URI:https://www.hudsonvillepublicschools.org/rileystreet/athletic
 s/calendar/1933129/girls-basketball-vs-valleywood
DTSTART:20190129T210000Z
DTEND:20190129T233000Z
END:VEVENT
END:VCALENDAR
