BEGIN:VCALENDAR
VERSION:2.0
PRODID:SchoolNow
CALSCALE:GREGORIAN
BEGIN:VEVENT
UID:92900958-1b52-11e9-b89c-124645143986
DTSTAMP:20190118T185507Z
SUMMARY:Eagle Select Basketball vs. Grandville at Riley
URL;VALUE=URI:https://www.hudsonvillepublicschools.org/rileystreet/athletic
 s/calendar/1933128/eagle-select-basketball-vs-grandville-at-riley
DTSTART:20190314T200000Z
DTEND:20190314T223000Z
END:VEVENT
END:VCALENDAR
